BEGIN:VCALENDAR
VERSION:2.0
PRODID:-//Squarespace Inc/Squarespace 6//v6//EN
BEGIN:VEVENT
UID:5b96e81a4d7a9cd8bfd1e360@squarespace.com
DTSTAMP:20190129T031646Z
DTSTART:20190508T224500Z
DTEND:20190509T063000Z
SUMMARY:Taste of the Country
GEO:-35.3117;149.143881
LOCATION:Australia
END:VEVENT
END:VCALENDAR
