BEGIN:VCALENDAR
VERSION:2.0
PRODID:-//Squarespace Inc/Squarespace 6//v6//EN
BEGIN:VEVENT
UID:5b96d8aaf950b7f49b490e06@squarespace.com
DTSTAMP:20181111T211357Z
DTSTART:20190507T071500Z
DTEND:20190507T080000Z
SUMMARY:Sunset Serenade
GEO:-35.300808;149.134645
LOCATION:James Turrell SkySpace - NGA\, Parkes Place East\, Parkes\, ACT\, 
 2600\, Australia
END:VEVENT
END:VCALENDAR
