BEGIN:VCALENDAR
VERSION:2.0
PRODID:-//Squarespace Inc/Squarespace 6//v6//EN
BEGIN:VEVENT
UID:5bc40c9d104c7b44f2ee5106@squarespace.com
DTSTAMP:20181111T034959Z
DTSTART:20190507T050000Z
DTEND:20190507T060000Z
SUMMARY:Quartet Masterclass
GEO:-35.273607;149.135573
LOCATION:Ainslie Arts Centre\, 30 Elouera St\, Braddon
END:VEVENT
END:VCALENDAR
