BEGIN:VCALENDAR
VERSION:2.0
PRODID:-//Squarespace Inc/Squarespace 6//v6//EN
BEGIN:VEVENT
UID:5b9f0eaa575d1fafdc419ea7@squarespace.com
DTSTAMP:20190214T000207Z
DTSTART:20190509T024500Z
DTEND:20190509T031500Z
SUMMARY:Music for Lunch at NGA
GEO:-35.300808;149.134645
LOCATION:NGA - James Fairfax Theatre\, Parkes Place East\, Parkes\, ACT\, 2
 600\, Australia
END:VEVENT
END:VCALENDAR
