BEGIN:VCALENDAR
VERSION:2.0
PRODID:-//Squarespace Inc/Squarespace 6//v6//EN
BEGIN:VEVENT
UID:5bde30c9758d46ea7a3411e4@squarespace.com
DTSTAMP:20181213T220049Z
DTSTART:20190511T120000Z
DTEND:20190511T133000Z
SUMMARY:Jazz Up Late
GEO:-35.278299;149.12846
LOCATION:Smiths Alternative\, Alinga St\, Canberra\, Australia
END:VEVENT
END:VCALENDAR
