BEGIN:VCALENDAR
VERSION:2.0
PRODID:-//Squarespace Inc/Squarespace 6//v6//EN
BEGIN:VEVENT
UID:5b842e1ac2241b7f08633266@squarespace.com
DTSTAMP:20181213T220703Z
DTSTART:20190504T043000Z
DTEND:20190504T054000Z
SUMMARY:Shall we Dance?
GEO:-35.3117;149.143881
LOCATION:Fitters' Workshop\, 11 Wentworth Avenue\, Kingston\, ACT\, 2604\, 
 Australia
END:VEVENT
END:VCALENDAR
