BEGIN:VCALENDAR
VERSION:2.0
PRODID:-//Squarespace Inc/Squarespace 6//v6//EN
BEGIN:VEVENT
UID:5b842dd1575d1f53d0fce2c6@squarespace.com
DTSTAMP:20181126T054803Z
DTSTART:20190512T083000Z
DTEND:20190512T093000Z
SUMMARY:Testament
GEO:-35.3117;149.143881
LOCATION:Fitters' Workshop\, 11 Wentworth Avenue\, Kingston\, ACT\, 2604\, 
 Australia
END:VEVENT
END:VCALENDAR
