BEGIN:VCALENDAR
VERSION:2.0
PRODID:-//Squarespace Inc/Squarespace 6//v6//EN
BEGIN:VEVENT
UID:5b8d9001352f53facc306986@squarespace.com
DTSTAMP:20181220T040446Z
DTSTART:20190512T010000Z
DTEND:20190512T020000Z
SUMMARY:Bach for All
GEO:-35.312024;149.143432
LOCATION:Fitters' Workshop\, 11 Wentworth Ave\, Kingston\, ACT\, 2604\, Aus
 tralia
END:VEVENT
END:VCALENDAR
