BEGIN:VCALENDAR
VERSION:2.0
PRODID:-//Squarespace Inc/Squarespace 6//v6//EN
BEGIN:VEVENT
UID:5b842b5f032be4ad6c4daea1@squarespace.com
DTSTAMP:20181220T040752Z
DTSTART:20190503T093000Z
DTEND:20190503T113000Z
SUMMARY:A World of Bach
GEO:-35.3117;149.143881
LOCATION:Fitters' Workshop\, 11 Wentworth Avenue\, Kingston\, ACT\, 2604\, 
 Australia
END:VEVENT
END:VCALENDAR
