BEGIN:VCALENDAR
VERSION:2.0
PRODID:-//Squarespace Inc/Squarespace 6//v6//EN
BEGIN:VEVENT
UID:5b8d8d8f70a6adae1d3e03f7@squarespace.com
DTSTAMP:20190222T045345Z
DTSTART:20190511T010000Z
DTEND:20190511T021500Z
SUMMARY:Prelude and Fugue
GEO:-35.3117;149.143881
LOCATION:Fitters' Workshop\, 11 Wentworth Avenue\, Kingston\, ACT\, 2604\, 
 Australia
END:VEVENT
END:VCALENDAR
