BEGIN:VCALENDAR
VERSION:2.0
PRODID:-//Squarespace Inc/Squarespace 6//v6//EN
BEGIN:VEVENT
UID:5b8d8b2e0ebbe8ab9f091cbd@squarespace.com
DTSTAMP:20181122T234538Z
DTSTART:20190510T010000Z
DTEND:20190510T050000Z
SUMMARY:Bach The Teacher
GEO:-35.314492;149.119097
LOCATION:Canberra Girls Grammar School Chapel\, Melbourne Ave\, Deakin\, AC
 T\, Australia
END:VEVENT
END:VCALENDAR
