BEGIN:VCALENDAR
VERSION:2.0
PRODID:-//Squarespace Inc/Squarespace 6//v6//EN
BEGIN:VEVENT
UID:5b8d89510e2e725ec1639b7b@squarespace.com
DTSTAMP:20181120T220310Z
DTSTART:20190508T083000Z
DTEND:20190508T101500Z
SUMMARY:Brexit Blues
GEO:-35.3117;149.143881
LOCATION:Fitters' Workshop\, 11 Wentworth Avenue\, Kingston\, ACT\, 2604\, 
 Australia
END:VEVENT
END:VCALENDAR
