BEGIN:VCALENDAR
VERSION:2.0
PRODID:-//Squarespace Inc/Squarespace 6//v6//EN
BEGIN:VEVENT
UID:5b898acec2241b767f212326@squarespace.com
DTSTAMP:20181220T040158Z
DTSTART:20190508T013000Z
DTEND:20190508T030000Z
SUMMARY:Bach on the Mountain
GEO:-35.320016;149.008056
LOCATION:Mount Stromlo\, Mount Stromlo Visitors Centre\, Australia
END:VEVENT
END:VCALENDAR
