BEGIN:VCALENDAR
VERSION:2.0
PRODID:-//Squarespace Inc/Squarespace 6//v6//EN
BEGIN:VEVENT
UID:5b897859352f5309e3ae82da@squarespace.com
DTSTAMP:20190213T231613Z
DTSTART:20190507T083000Z
DTEND:20190507T100500Z
SUMMARY:Slava's Piano
GEO:-35.3117;149.143881
LOCATION:Fitters' Workshop\, 11 Wentworth Avenue\, Kingston\, ACT\, 2604\, 
 Australia
END:VEVENT
END:VCALENDAR
