BEGIN:VCALENDAR
VERSION:2.0
PRODID:-//Squarespace Inc/Squarespace 6//v6//EN
BEGIN:VEVENT
UID:5b89776d2b6a28a385cf67cf@squarespace.com
DTSTAMP:20181109T185007Z
DTSTART:20190507T010000Z
DTEND:20190507T050000Z
SUMMARY:Up Close at Gorman
GEO:-35.278235;149.137636
LOCATION:Gorman House Arts Centre\, 55 Ainslie Ave\, Braddon\, ACT\, 2612\, 
 Australia
END:VEVENT
END:VCALENDAR
