BEGIN:VCALENDAR
VERSION:2.0
PRODID:-//Squarespace Inc/Squarespace 6//v6//EN
BEGIN:VEVENT
UID:5b89746bb8a045a9a7d85788@squarespace.com
DTSTAMP:20181126T054422Z
DTSTART:20190506T083000Z
DTEND:20190506T100500Z
SUMMARY:St. John Passion
GEO:-35.3117;149.143881
LOCATION:Fitters' Workshop\, 11 Wentworth Avenue\, Kingston\, ACT\, 2604\, 
 Australia
END:VEVENT
END:VCALENDAR
