BEGIN:VCALENDAR
VERSION:2.0
PRODID:-//Squarespace Inc/Squarespace 6//v6//EN
BEGIN:VEVENT
UID:5b96d9f221c67c8b24488e9d@squarespace.com
DTSTAMP:20181112T225125Z
DTSTART:20190506T223000Z
DTEND:20190507T001500Z
SUMMARY:Bach for Breakfast #2
GEO:-35.28986;149.069753
LOCATION:National Arboretum Canberra\, Margaret Whitlam Pavilion\, Weston\, 
 ACT\, Australia
END:VEVENT
END:VCALENDAR
