BEGIN:VCALENDAR
VERSION:2.0
PRODID:-//Squarespace Inc/Squarespace 6//v6//EN
BEGIN:VEVENT
UID:5b96e1ff032be4ec32d66f17@squarespace.com
DTSTAMP:20181111T090412Z
DTSTART:20190509T223000Z
DTEND:20190510T001500Z
SUMMARY:Bach for Breakfast #5
GEO:-35.314492;149.119097
LOCATION:Canberra Girls Grammar School Chapel\, Melbourne Ave\, Deakin\, AC
 T\, Australia
END:VEVENT
END:VCALENDAR
