BEGIN:VCALENDAR
VERSION:2.0
PRODID:-//Squarespace Inc/Squarespace 6//v6//EN
BEGIN:VEVENT
UID:5b96dc3a40ec9a2c7d52e091@squarespace.com
DTSTAMP:20181202T211300Z
DTSTART:20190505T223000Z
DTEND:20190506T001500Z
SUMMARY:Bach for Breakfast #1
GEO:-35.287662;149.140438
LOCATION:St. John's Anglican Church\, 45 Constitution Ave\, Reid\, ACT\, Au
 stralia
END:VEVENT
END:VCALENDAR
