BEGIN:VCALENDAR
VERSION:2.0
PRODID:-//Squarespace Inc/Squarespace 6//v6//EN
BEGIN:VEVENT
UID:5b96e0ce352f53190695ac90@squarespace.com
DTSTAMP:20190129T031742Z
DTSTART:20190508T223000Z
DTEND:20190509T001500Z
SUMMARY:Bach for Breakfast #4
GEO:-35.320753;149.094425
LOCATION:Beaver Galleries\, 81 Denison St\, Deakin\, Australia
END:VEVENT
END:VCALENDAR
