BEGIN:VCALENDAR
VERSION:2.0
PRODID:-//Squarespace Inc/Squarespace 6//v6//EN
BEGIN:VEVENT
UID:5b96def9aa4a99f38f93bcbf@squarespace.com
DTSTAMP:20181111T090326Z
DTSTART:20190507T223000Z
DTEND:20190508T001500Z
SUMMARY:Bach for Breakfast #3
GEO:-35.303003;149.115574
LOCATION:Embassy of Finland\, 12 Darwin Ave\, Yarralumla\, ACT\, 2600\, Aus
 tralia
END:VEVENT
END:VCALENDAR
